BEGIN:VCALENDAR
VERSION:2.0
PRODID:-//ChamberMaster//Event Calendar 2.0//EN
METHOD:PUBLISH
X-PUBLISHED-TTL:P3D
REFRESH-INTERVAL:P3D
CALSCALE:GREGORIAN
BEGIN:VEVENT
DTSTART:20190711T170000Z
DTEND:20190711T183000Z
X-MICROSOFT-CDO-ALLDAYEVENT:FALSE
SUMMARY:2019 Business Development Committee Meeting
DESCRIPTION:Business Development Committee Meeting\n\n\n\nThe mandate of the Business Development Committee is to promote and support growth and development of business in the community. This committee will create a learning environment and share information with members through special events\, expert speakers\, and workshops regarding employment\, labour and job creation\, workplace legislation and best HR practices\, always attempting to help our members improve their knowledge base and develop new skills to strengthen their business. This committee will oversee the Eastman Immigrant Services program and the English at Work program\, and ensure they stay vibrant and relevant.\n\n\n\nClick here to view our Business Development Committee Members
X-ALT-DESC;FMTTYPE=text/html:<br />\n<strong>Business Development Committee Meeting</strong><br />\n<br />\nThe mandate of the Business Development Committee is to promote and support growth and development of business in the community. This committee will create a learning environment and share information with members through special events\, expert speakers\, and workshops regarding employment\, labour and job creation\, workplace legislation and best HR practices\, always attempting to help our members improve their knowledge base and develop new skills to strengthen their business. This committee will oversee the Eastman Immigrant Services program and the English at Work program\, and ensure they stay vibrant and relevant.<br />\n<br />\nClick here to view our&nbsp\;<a href="http://www.steinbachchamber.com/groups/GroupRoster/board-business-development-committee-13">Business Development Committee Members</a>&nbsp\;&nbsp\;&nbsp\;&nbsp\;&nbsp\;&nbsp\;&nbsp\;&nbsp\;
LOCATION:284 Reimer Avenue Chamber Board Room
UID:e.1995.1405
SEQUENCE:3
DTSTAMP:20260424T042641Z
URL:https://chamber.steinbachchamber.com/events/details/2019-business-development-committee-meeting-07-11-2019-1405
END:VEVENT

END:VCALENDAR
