BEGIN:VCALENDAR
VERSION:2.0
PRODID:-//ChamberMaster//Event Calendar 2.0//EN
METHOD:PUBLISH
X-PUBLISHED-TTL:P3D
REFRESH-INTERVAL:P3D
CALSCALE:GREGORIAN
BEGIN:VEVENT
DTSTART:20191016T130000Z
DTEND:20191016T143000Z
X-MICROSOFT-CDO-ALLDAYEVENT:FALSE
SUMMARY:2019 Chamber Board Meeting
DESCRIPTION:Chamber Board Meeting\n\n\n\nThe Steinbach Chamber of Commerce will continue to be a vehicle of positive change in our community\, through the pursuit of the following core values:\n\n\n\nService: Actively identifying and meeting the needs of our member businesses.\n\n\n\nSustainability: Leveraging available resources and developing new strategies to optimize our members long-term return on investment.\n\n\n\nInnovation: Proactively implementing new ideas and improvements for local business growth and regional economic growth.\n\n\n\nCooperation: Creating synergy between business\, government\, and residents to achieve mutual success.\n\n\n\nIntegrity: Remaining accountable to our members and the community by operating in a fair and ethical manner.\n\n\n\nRespect: Honoring Steinbach's history\, culture and accomplishments\, while embracing our growing diversity and opportunities.\n\n\n\nClick here to view our Board of Directors
X-ALT-DESC;FMTTYPE=text/html:<strong>Chamber Board Meeting</strong><br />\n<br />\nThe Steinbach Chamber of Commerce will continue to be a vehicle of positive change in our community\, through the pursuit of the following core values:<br />\n<br />\n<strong>Service</strong>: Actively identifying and meeting the needs of our member businesses.<br />\n<br />\n<strong>Sustainability</strong>: Leveraging available resources and developing new strategies to optimize our members long-term return on investment.<br />\n<br />\n<strong>Innovation</strong>: Proactively implementing new ideas and improvements for local business growth and regional economic growth.<br />\n<br />\n<strong>Cooperation</strong>: Creating synergy between business\, government\, and residents to achieve mutual success.<br />\n<br />\n<strong>Integrity</strong>: Remaining accountable to our members and the community by operating in a fair and ethical manner.<br />\n<br />\n<strong>Respect</strong>: Honoring Steinbach&#39\;s history\, culture and accomplishments\, while embracing our growing diversity and opportunities.<br />\n<br />\nClick here to view our&nbsp\;<a href="http://business.steinbachchamber.com/groups/GroupRoster/board-directors-of-the-chamber-10">Board of Directors</a>
LOCATION:284 Reimer Avenue Chamber Board Room
UID:e.1995.1372
SEQUENCE:3
DTSTAMP:20260423T232547Z
URL:https://chamber.steinbachchamber.com/events/details/2019-chamber-board-meeting-10-16-2019-1372
END:VEVENT

END:VCALENDAR
