BEGIN:VCALENDAR
VERSION:2.0
PRODID:-//ChamberMaster//Event Calendar 2.0//EN
METHOD:PUBLISH
X-PUBLISHED-TTL:P3D
REFRESH-INTERVAL:P3D
CALSCALE:GREGORIAN
BEGIN:VEVENT
DTSTART:20191219T180000Z
DTEND:20191219T193000Z
X-MICROSOFT-CDO-ALLDAYEVENT:FALSE
SUMMARY:2019 Community Relations Committee Meeting
DESCRIPTION:Community Relations Committee Meeting\n\n\n\nThe mandate of the Community Relations Committee is to bring business and community together. This committee will coordinate various community events and will participate in community initiatives. They will work to ensure the community is aware of the Chamber's projects and activities\, and in doing so\, promote the values and work of the organization. They will look for ways to support and celebrate the work of our many local not-for-profit organizations\, and will support tourism in our area\n\n\n\nClick here to view our Community Relations Committee Members
X-ALT-DESC;FMTTYPE=text/html:<strong>Community Relations Committee Meeting</strong><br />\n<br />\nThe mandate of the Community Relations Committee is to bring business and community together. This committee will coordinate various community events and will participate in community initiatives. They will work to ensure the community is aware of the Chamber&#39\;s projects and activities\, and in doing so\, promote the values and work of the organization. They will look for ways to support and celebrate the work of our many local not-for-profit organizations\, and will support tourism in our area<br />\n<br />\nClick here to view our&nbsp\;<a href="http://www.steinbachchamber.com/groups/GroupRoster/board-community-relations-committee-11">Community Relations Committee Members</a>
LOCATION:Steinbach Credit Union 333 Main St Steinbach\, MB
UID:e.1995.1386
SEQUENCE:3
DTSTAMP:20260423T210553Z
URL:https://chamber.steinbachchamber.com/events/details/2019-community-relations-committee-meeting-12-18-2019-1386
END:VEVENT

END:VCALENDAR
