BEGIN:VCALENDAR
VERSION:2.0
PRODID:-//ChamberMaster//Event Calendar 2.0//EN
METHOD:PUBLISH
X-PUBLISHED-TTL:P3D
REFRESH-INTERVAL:P3D
CALSCALE:GREGORIAN
BEGIN:VEVENT
DTSTART:20191101T130000Z
DTEND:20191101T143000Z
X-MICROSOFT-CDO-ALLDAYEVENT:FALSE
SUMMARY:2019 Executive Committee Meeting
DESCRIPTION:Executive Committee Meeting\n\n\n\nClick here to view our Executive Committee
X-ALT-DESC;FMTTYPE=text/html:<br />\n<strong>Executive Committee Meeting</strong><br />\n<br />\nClick here to view our&nbsp\;<a href="http://www.steinbachchamber.com/groups/GroupRoster/executive-team-19">Executive Committee</a>
LOCATION:284 Reimer Avenue Chamber Board Room
UID:e.1995.1397
SEQUENCE:3
DTSTAMP:20260423T232839Z
URL:https://chamber.steinbachchamber.com/events/details/2019-executive-committee-meeting-11-01-2019-1397
END:VEVENT

END:VCALENDAR
