BEGIN:VCALENDAR
VERSION:2.0
PRODID:-//ChamberMaster//Event Calendar 2.0//EN
METHOD:PUBLISH
X-PUBLISHED-TTL:P3D
REFRESH-INTERVAL:P3D
CALSCALE:GREGORIAN
BEGIN:VEVENT
DTSTART:20191001T170000Z
DTEND:20191001T183000Z
X-MICROSOFT-CDO-ALLDAYEVENT:FALSE
SUMMARY:2019 Membership Services Committee Meeting
DESCRIPTION:Membership Services Committee Meeting\n\n\n\nThe mandate of the Membership Services Committee is to develop and implement effective marketing\, mentoring\, and membership programs to achieve Chamber retention and recruitment objectives. This committee will actively pursue new memberships and retain existing memberships through the provision of value to all members\, and will identify and respond to the changing needs of the membership. These committee members will be Chamber ambassadors in the business community.\n\n\n\nClick here to view our Membership Committee Members
X-ALT-DESC;FMTTYPE=text/html:<br />\n<strong>Membership Services Committee Meeting</strong><br />\n<br />\nThe mandate of the Membership Services Committee is to develop and implement effective marketing\, mentoring\, and membership programs to achieve Chamber retention and recruitment objectives. This committee will actively pursue new memberships and retain existing memberships through the provision of value to all members\, and will identify and respond to the changing needs of the membership. These committee members will be Chamber ambassadors in the business community.<br />\n<br />\nClick here to view our&nbsp\;<a href="http://www.steinbachchamber.com/groups/GroupRoster/board-membership-12">Membership Committee Members</a>&nbsp\;&nbsp\;&nbsp\;&nbsp\;&nbsp\;&nbsp\;&nbsp\;&nbsp\;
LOCATION:284 Reimer Avenue Chamber Board Room
UID:e.1995.1432
SEQUENCE:3
DTSTAMP:20260423T232611Z
URL:https://chamber.steinbachchamber.com/events/details/2019-membership-services-committee-meeting-10-01-2019-1432
END:VEVENT

END:VCALENDAR
