BEGIN:VCALENDAR
VERSION:2.0
PRODID:-//ChamberMaster//Event Calendar 2.0//EN
METHOD:PUBLISH
X-PUBLISHED-TTL:P3D
REFRESH-INTERVAL:P3D
CALSCALE:GREGORIAN
BEGIN:VEVENT
DTSTART:20190207T230000Z
DTEND:20190208T010000Z
X-MICROSOFT-CDO-ALLDAYEVENT:FALSE
SUMMARY:2019 Mixer - Keystone Agri-Motive
DESCRIPTION:Keystone Agri-Motive is thrilled to host the first Mixer in the 2019 CPHR Chamber Mixer Series!  \n\n\n\nConnect with your business community at Keystone on February 7th as you check out their newly expanded facility\, featuring Keystone Agri-Motive Inc.\, Keystone Rentals\, Penner Trailers\, and NAPA Auto Parts.  Enjoy appetizers and non-alcoholic beverages\, and pick up your tour card for a chance to win some great prizes\, as you network in the Keystone world.\n\n \nCost: Free of charge to Chamber members upon RSVP. Limited attendance\; RSVP mandatory on or before January 31st.\n\n \n\nNEW MEMBERS:\nIf you are among our newest members who have joined the Steinbach Chamber of Commerce\, then this event is for you!  Our Mixers provide perfect opportunities to meet members\, and enjoy refreshments as you connect with our local business community.
X-ALT-DESC;FMTTYPE=text/html:<br />\nKeystone Agri-Motive&nbsp\;is thrilled to host the first Mixer in the 2019 CPHR Chamber Mixer Series!&nbsp\;&nbsp\;<br />\n<br />\nConnect with your business community at Keystone on February 7th as you check out their newly expanded facility\, featuring Keystone Agri-Motive Inc.\, Keystone Rentals\, Penner Trailers\, and NAPA Auto Parts.&nbsp\; Enjoy appetizers and non-alcoholic beverages\, and pick up your tour card for a chance to win some great prizes\, as you network in the Keystone world.\n<div>\n<div><strong>&nbsp\;</strong></div>\n<strong>Cost:</strong>&nbsp\;Free of charge to Chamber members upon RSVP. Limited attendance\; RSVP mandatory on or before January 31st.\n\n<div>&nbsp\;<br />\n<strong>NEW MEMBERS:</strong></div>\nIf you are among our newest members who have joined the&nbsp\;Steinbach&nbsp\;Chamber of Commerce\, then this event is for you!&nbsp\; Our Mixers provide perfect opportunities to meet members\, and enjoy refreshments as you connect with our local business community.</div>\n\n<div>&nbsp\;</div>\n
LOCATION:Keystone Agri-Motive - Main Showroom 339 Highway 12 North Steinbach\, MB
UID:e.1995.1362
SEQUENCE:3
DTSTAMP:20260424T102455Z
URL:https://chamber.steinbachchamber.com/events/details/2019-mixer-keystone-agri-motive-1362
END:VEVENT

END:VCALENDAR
