BEGIN:VCALENDAR
VERSION:2.0
PRODID:-//ChamberMaster//Event Calendar 2.0//EN
METHOD:PUBLISH
X-PUBLISHED-TTL:P3D
REFRESH-INTERVAL:P3D
CALSCALE:GREGORIAN
BEGIN:VEVENT
DTSTART:20190321T220000Z
DTEND:20190322T000000Z
X-MICROSOFT-CDO-ALLDAYEVENT:FALSE
SUMMARY:2019 Mixer - Roadhouse 52
DESCRIPTION:Roadhouse 52 Inn & Suites wants to see you at the next Mixer in the 2019 CPHR Chamber Mixer Series!  \n\n\n\nJoin us as we tour through Roadhouse 52 on March 21st.  Get a taste of what this beautiful facility has to offer - meeting rooms\, executive suites\, business center and more.  Weather permitting\, take a tour of the retro 50s Diner right next door.  This Mixer will feature appetizers that are 'guest favourites' from Diner on 52\, and a chance to win some great prizes too!   You'll be glad you came\, and make some great business connections too.\n\n\n\nFor more information about Roadhouse 52's facilities\, visit roadhouse52.ca. \n\n \n\nCost: Free of charge to Chamber members upon RSVP. Limited attendance\; RSVP mandatory on or before March 14th.\n\n \n\nNEW MEMBERS:\nIf you are among our newest members who have joined the Steinbach Chamber of Commerce\, then this event is for you!  Our Mixers provide perfect opportunities to meet members\, and enjoy refreshments as you connect with our local business community.
X-ALT-DESC;FMTTYPE=text/html:<br />\nRoadhouse 52 Inn &amp\; Suites wants to see you at the next Mixer in the 2019 CPHR Chamber Mixer Series!&nbsp\;&nbsp\;<br />\n<br />\nJoin us as we tour through Roadhouse 52 on March 21st.&nbsp\; Get a taste of what this beautiful facility has to offer - meeting rooms\, executive suites\, business center and more.&nbsp\; Weather permitting\, take a tour of the retro 50s Diner right next door.&nbsp\; This Mixer will feature appetizers that are &#39\;guest favourites&#39\; from Diner on 52\, and a chance to win some great prizes too!&nbsp\; &nbsp\;You&#39\;ll be glad you came\, and make some great business connections too.<br />\n<br />\nFor more information about Roadhouse 52&#39\;s facilities\, visit&nbsp\;<a href="https://roadhouse52.ca/" target="_blank">roadhouse52.ca</a>.&nbsp\;<br />\n&nbsp\;\n<div>\n<div><strong>Cost:</strong>&nbsp\;Free of charge to Chamber members upon RSVP. Limited attendance\; RSVP mandatory on or before March 14th.</div>\n\n<div>&nbsp\;<br />\n<strong>NEW MEMBERS:</strong></div>\nIf you are among our newest members who have joined the&nbsp\;Steinbach&nbsp\;Chamber of Commerce\, then this event is for you!&nbsp\; Our Mixers provide perfect opportunities to meet members\, and enjoy refreshments as you connect with our local business community.</div>\n\n<div>&nbsp\;</div>\n
LOCATION:Roadhouse 52 Inn & Suites 375 B North Front Drive Steinbach\, MB
UID:e.1995.1451
SEQUENCE:3
DTSTAMP:20260424T084758Z
URL:https://chamber.steinbachchamber.com/events/details/2019-mixer-roadhouse-52-1451
END:VEVENT

END:VCALENDAR
