BEGIN:VCALENDAR
VERSION:2.0
PRODID:-//ChamberMaster//Event Calendar 2.0//EN
METHOD:PUBLISH
X-PUBLISHED-TTL:P3D
REFRESH-INTERVAL:P3D
CALSCALE:GREGORIAN
BEGIN:VEVENT
DTSTART:20191107T230000Z
DTEND:20191108T010000Z
X-MICROSOFT-CDO-ALLDAYEVENT:FALSE
SUMMARY:2019 Mixer - Summit Organizational Development
DESCRIPTION:Summit Organizational Development looks forward to hosting you at the final Mixer in the 2019 CPHR Chamber Mixer Series!  \n\n\n\nThe weather's getting colder but the atmosphere is always warm at Summit.  Join us at the next Chamber Mixer on November 7th and check out their location in the Eastman Education Centre.  \n\n \nJoin us as we explore elements of Organizational Health and learn how you can leverage them to enhance your business results!  Experience "change" in a whole new way and test your knowledge of the elements that can strengthen your team and your organization in two activities:\n\n\n	Can we all just "push through" change when we know the facts? If only change was that simple. Even when we receive all the facts and completely understand the need to change\, adapting is still difficult. You'll have an opportunity to practice the acceptance of risk and power through the unknown\, until understanding evolves into a completely new way of thinking. \n	Test your knowledge of the elements of Organizational Health that strengthen your team and take your organization to a whole new level!\n\n\n\nEnjoy appetizers and connect with some old and new friends.  As always\, you'll be glad you came.\n\n\n\nFor more information about Summit\, visit SummitOrgDev.com. \n\n \n\n\nCost: Free of charge to Chamber members upon RSVP. Limited attendance\; RSVP mandatory on or before October 31st.\n\n \n\nNEW MEMBERS:\nIf you are among our newest members who have joined the Steinbach Chamber of Commerce\, then this event is for you!  Our Mixers provide perfect opportunities to meet members\, and enjoy refreshments as you connect with our local business community.
X-ALT-DESC;FMTTYPE=text/html:<span style="color: rgb(68\, 68\, 68)\; font-family: Arial\, Helvetica\, sans-serif\; font-size: 14px\;">Summit Organizational Development looks forward to hosting you at the final Mixer in the 2019 CPHR Chamber Mixer Series!&nbsp\;&nbsp\;</span><br style="box-sizing: content-box\; bottom: auto\; clear: none\; color: rgb(68\, 68\, 68)\; content: normal\; direction: inherit\; display: inline\; empty-cells: show\; float: none\; font-variant-numeric: inherit\; font-variant-east-asian: inherit\; font-stretch: inherit\; font-size: 14px\; font-family: Arial\, Helvetica\, sans-serif\; left: auto\; line-height: inherit\; margin: 0px\; max-height: none\; max-width: none\; min-height: initial\; min-width: initial\; opacity: 1\; outline-offset: 0px\; overflow: visible\; padding: 0px\; position: static\; resize: none\; right: auto\; table-layout: auto\; text-overflow: clip\; top: auto\; vertical-align: baseline\; visibility: inherit\; word-break: inherit\; overflow-wrap: inherit\; z-index: auto\; background-image: none\; background-position: initial\; background-size: initial\; background-repeat: initial\; background-attachment: initial\; background-origin: initial\; background-clip: initial\; border: none\; border-collapse: separate\; border-radius: 0px\; height: auto\; width: auto\;" />\n<br style="box-sizing: content-box\; bottom: auto\; clear: none\; color: rgb(68\, 68\, 68)\; content: normal\; direction: inherit\; display: inline\; empty-cells: show\; float: none\; font-variant-numeric: inherit\; font-variant-east-asian: inherit\; font-stretch: inherit\; font-size: 14px\; font-family: Arial\, Helvetica\, sans-serif\; left: auto\; line-height: inherit\; margin: 0px\; max-height: none\; max-width: none\; min-height: initial\; min-width: initial\; opacity: 1\; outline-offset: 0px\; overflow: visible\; padding: 0px\; position: static\; resize: none\; right: auto\; table-layout: auto\; text-overflow: clip\; top: auto\; vertical-align: baseline\; visibility: inherit\; word-break: inherit\; overflow-wrap: inherit\; z-index: auto\; background-image: none\; background-position: initial\; background-size: initial\; background-repeat: initial\; background-attachment: initial\; background-origin: initial\; background-clip: initial\; border: none\; border-collapse: separate\; border-radius: 0px\; height: auto\; width: auto\;" />\n<span style="color: rgb(68\, 68\, 68)\; font-family: Arial\, Helvetica\, sans-serif\; font-size: 14px\;">The weather&#39\;s getting colder but the atmosphere is always warm at Summit.&nbsp\; Join us at the next Chamber Mixer on November 7th and check out their location in the Eastman Education Centre.&nbsp\; </span><br />\n&nbsp\;\n<div _mce_style="font-size: 11pt\;" style="color: rgb(69\, 69\, 69)\; font-family: Arial\, Helvetica\, sans-serif\; font-size: 11pt\;">Join us as we explore elements of Organizational Health and learn how you can leverage them to enhance your business results!&nbsp\; Experience &ldquo\;change&rdquo\; in a whole new way and test your knowledge of the elements that can strengthen your team and your organization in two activities:</div>\n\n<ol>\n	<li _mce_style="font-size: 11pt\;" style="color: rgb(69\, 69\, 69)\; font-family: Arial\, Helvetica\, sans-serif\; font-size: 11pt\;">Can we all just &ldquo\;push through&rdquo\; change when we know the facts? If only change was that simple. Even when we receive all the facts and completely understand the need to change\, adapting is still difficult. You&rsquo\;ll have an opportunity to practice the acceptance of risk and power through the unknown\, until understanding evolves into a completely new way of thinking.&nbsp\;</li>\n	<li _mce_style="font-size: 11pt\;" style="color: rgb(69\, 69\, 69)\; font-family: Arial\, Helvetica\, sans-serif\; font-size: 11pt\;">Test your knowledge of the elements of Organizational Health that strengthen your team and take your organization to a whole new level!</li>\n</ol>\n<br />\n<span style="color: rgb(68\, 68\, 68)\; font-family: Arial\, Helvetica\, sans-serif\; font-size: 14px\;">Enjoy appetizers and connect with some old and new friends.&nbsp\; As always\, you&#39\;ll be glad you came.</span><br style="box-sizing: content-box\; bottom: auto\; clear: none\; color: rgb(68\, 68\, 68)\; content: normal\; direction: inherit\; display: inline\; empty-cells: show\; float: none\; font-variant-numeric: inherit\; font-variant-east-asian: inherit\; font-stretch: inherit\; font-size: 14px\; font-family: Arial\, Helvetica\, sans-serif\; left: auto\; line-height: inherit\; margin: 0px\; max-height: none\; max-width: none\; min-height: initial\; min-width: initial\; opacity: 1\; outline-offset: 0px\; overflow: visible\; padding: 0px\; position: static\; resize: none\; right: auto\; table-layout: auto\; text-overflow: clip\; top: auto\; vertical-align: baseline\; visibility: inherit\; word-break: inherit\; overflow-wrap: inherit\; z-index: auto\; background-image: none\; background-position: initial\; background-size: initial\; background-repeat: initial\; background-attachment: initial\; background-origin: initial\; background-clip: initial\; border: none\; border-collapse: separate\; border-radius: 0px\; height: auto\; width: auto\;" />\n<br style="box-sizing: content-box\; bottom: auto\; clear: none\; color: rgb(68\, 68\, 68)\; content: normal\; direction: inherit\; display: inline\; empty-cells: show\; float: none\; font-variant-numeric: inherit\; font-variant-east-asian: inherit\; font-stretch: inherit\; font-size: 14px\; font-family: Arial\, Helvetica\, sans-serif\; left: auto\; line-height: inherit\; margin: 0px\; max-height: none\; max-width: none\; min-height: initial\; min-width: initial\; opacity: 1\; outline-offset: 0px\; overflow: visible\; padding: 0px\; position: static\; resize: none\; right: auto\; table-layout: auto\; text-overflow: clip\; top: auto\; vertical-align: baseline\; visibility: inherit\; word-break: inherit\; overflow-wrap: inherit\; z-index: auto\; background-image: none\; background-position: initial\; background-size: initial\; background-repeat: initial\; background-attachment: initial\; background-origin: initial\; background-clip: initial\; border: none\; border-collapse: separate\; border-radius: 0px\; height: auto\; width: auto\;" />\n<span style="color: rgb(68\, 68\, 68)\; font-family: Arial\, Helvetica\, sans-serif\; font-size: 14px\;">For more information about Summit\, visit </span><span style="font-size:14px\;"><a href="https://summitorgdev.com/" target="_blank">SummitOrgDev.com</a></span><span style="color: rgb(68\, 68\, 68)\; font-family: Arial\, Helvetica\, sans-serif\; font-size: 14px\;">.&nbsp\;</span><br style="box-sizing: content-box\; bottom: auto\; clear: none\; color: rgb(68\, 68\, 68)\; content: normal\; direction: inherit\; display: inline\; empty-cells: show\; float: none\; font-variant-numeric: inherit\; font-variant-east-asian: inherit\; font-stretch: inherit\; font-size: 14px\; font-family: Arial\, Helvetica\, sans-serif\; left: auto\; line-height: inherit\; margin: 0px\; max-height: none\; max-width: none\; min-height: initial\; min-width: initial\; opacity: 1\; outline-offset: 0px\; overflow: visible\; padding: 0px\; position: static\; resize: none\; right: auto\; table-layout: auto\; text-overflow: clip\; top: auto\; vertical-align: baseline\; visibility: inherit\; word-break: inherit\; overflow-wrap: inherit\; z-index: auto\; background-image: none\; background-position: initial\; background-size: initial\; background-repeat: initial\; background-attachment: initial\; background-origin: initial\; background-clip: initial\; border: none\; border-collapse: separate\; border-radius: 0px\; height: auto\; width: auto\;" />\n<span style="color: rgb(68\, 68\, 68)\; font-family: Arial\, Helvetica\, sans-serif\; font-size: 14px\;">&nbsp\;</span>\n\n<div style="box-sizing: content-box\; bottom: auto\; clear: none\; color: rgb(68\, 68\, 68)\; content: normal\; direction: inherit\; empty-cells: show\; float: none\; font-variant-numeric: inherit\; font-variant-east-asian: inherit\; font-stretch: inherit\; font-size: 14px\; font-family: Arial\, Helvetica\, sans-serif\; left: auto\; line-height: inherit\; margin: 0px\; max-height: none\; max-width: none\; min-height: initial\; min-width: initial\; opacity: 1\; outline-offset: 0px\; overflow: visible\; padding: 0px\; position: static\; resize: none\; right: auto\; table-layout: auto\; text-overflow: clip\; top: auto\; vertical-align: baseline\; visibility: inherit\; word-break: inherit\; overflow-wrap: inherit\; z-index: auto\; background-image: none\; background-position: initial\; background-size: initial\; background-repeat: initial\; background-attachment: initial\; background-origin: initial\; background-clip: initial\; border: none\; border-collapse: separate\; border-radius: 0px\; height: auto\; width: auto\; box-shadow: none\;">\n<div style="box-sizing: content-box\; bottom: auto\; clear: none\; color: inherit\; content: normal\; direction: inherit\; empty-cells: show\; float: none\; font: inherit\; left: auto\; letter-spacing: inherit\; margin: 0px\; max-height: none\; max-width: none\; min-height: initial\; min-width: initial\; opacity: 1\; outline-offset: 0px\; overflow: visible\; padding: 0px\; position: static\; resize: none\; right: auto\; table-layout: auto\; text-align: inherit\; text-indent: inherit\; text-overflow: clip\; text-transform: inherit\; top: auto\; vertical-align: baseline\; visibility: inherit\; white-space: inherit\; word-break: inherit\; word-spacing: inherit\; overflow-wrap: inherit\; z-index: auto\; background: none\; border: none\; border-collapse: separate\; border-radius: 0px\; height: auto\; width: auto\; box-shadow: none\;"><span style="box-sizing: content-box\; font-weight: bolder\; bottom: auto\; clear: none\; color: inherit\; content: normal\; direction: inherit\; empty-cells: show\; font-style: inherit\; font-variant: inherit\; font-stretch: inherit\; font-size: inherit\; font-family: inherit\; left: auto\; letter-spacing: inherit\; line-height: inherit\; margin: 0px\; max-height: none\; max-width: none\; min-height: initial\; min-width: initial\; opacity: 1\; outline-offset: 0px\; overflow: visible\; padding: 0px\; position: static\; resize: none\; right: auto\; table-layout: auto\; text-align: inherit\; text-indent: inherit\; text-overflow: clip\; text-transform: inherit\; top: auto\; vertical-align: baseline\; visibility: inherit\; white-space: inherit\; word-break: inherit\; word-spacing: inherit\; overflow-wrap: inherit\; z-index: auto\; background: none\; border: none\; border-collapse: separate\; border-radius: 0px\; height: auto\; width: auto\; box-shadow: none\;">Cost:</span>&nbsp\;Free of charge to Chamber members upon RSVP. Limited attendance\; RSVP mandatory on or before October 31st.</div>\n\n<div style="box-sizing: content-box\; bottom: auto\; clear: none\; color: inherit\; content: normal\; direction: inherit\; empty-cells: show\; float: none\; font: inherit\; left: auto\; letter-spacing: inherit\; margin: 0px\; max-height: none\; max-width: none\; min-height: initial\; min-width: initial\; opacity: 1\; outline-offset: 0px\; overflow: visible\; padding: 0px\; position: static\; resize: none\; right: auto\; table-layout: auto\; text-align: inherit\; text-indent: inherit\; text-overflow: clip\; text-transform: inherit\; top: auto\; vertical-align: baseline\; visibility: inherit\; white-space: inherit\; word-break: inherit\; word-spacing: inherit\; overflow-wrap: inherit\; z-index: auto\; background: none\; border: none\; border-collapse: separate\; border-radius: 0px\; height: auto\; width: auto\; box-shadow: none\;">&nbsp\;<br style="box-sizing: content-box\; bottom: auto\; clear: none\; color: inherit\; content: normal\; direction: inherit\; display: inline\; empty-cells: show\; float: none\; font: inherit\; left: auto\; letter-spacing: inherit\; margin: 0px\; max-height: none\; max-width: none\; min-height: initial\; min-width: initial\; opacity: 1\; outline-offset: 0px\; overflow: visible\; padding: 0px\; position: static\; resize: none\; right: auto\; table-layout: auto\; text-align: inherit\; text-indent: inherit\; text-overflow: clip\; text-transform: inherit\; top: auto\; vertical-align: baseline\; visibility: inherit\; white-space: inherit\; word-break: inherit\; word-spacing: inherit\; overflow-wrap: inherit\; z-index: auto\; background: none\; border: none\; border-collapse: separate\; border-radius: 0px\; height: auto\; width: auto\;" />\n<span style="box-sizing: content-box\; font-weight: bolder\; bottom: auto\; clear: none\; color: inherit\; content: normal\; direction: inherit\; empty-cells: show\; font-style: inherit\; font-variant: inherit\; font-stretch: inherit\; font-size: inherit\; font-family: inherit\; left: auto\; letter-spacing: inherit\; line-height: inherit\; margin: 0px\; max-height: none\; max-width: none\; min-height: initial\; min-width: initial\; opacity: 1\; outline-offset: 0px\; overflow: visible\; padding: 0px\; position: static\; resize: none\; right: auto\; table-layout: auto\; text-align: inherit\; text-indent: inherit\; text-overflow: clip\; text-transform: inherit\; top: auto\; vertical-align: baseline\; visibility: inherit\; white-space: inherit\; word-break: inherit\; word-spacing: inherit\; overflow-wrap: inherit\; z-index: auto\; background: none\; border: none\; border-collapse: separate\; border-radius: 0px\; height: auto\; width: auto\; box-shadow: none\;">NEW MEMBERS:</span></div>\nIf you are among our newest members who have joined the&nbsp\;Steinbach&nbsp\;Chamber of Commerce\, then this event is for you!&nbsp\; Our Mixers provide perfect opportunities to meet members\, and enjoy refreshments as you connect with our local business community.</div>\n
LOCATION:Summit Organizational Development Unit 1 - 385 Loewen Boulevard Steinbach\, MB
UID:e.1995.1462
SEQUENCE:3
DTSTAMP:20260423T232315Z
URL:https://chamber.steinbachchamber.com/events/details/2019-mixer-summit-organizational-development-1462
END:VEVENT

END:VCALENDAR
