BEGIN:VCALENDAR
VERSION:2.0
PRODID:-//ChamberMaster//Event Calendar 2.0//EN
METHOD:PUBLISH
X-PUBLISHED-TTL:P3D
REFRESH-INTERVAL:P3D
CALSCALE:GREGORIAN
BEGIN:VEVENT
DTSTART;VALUE=DATE:20190802
DTEND;VALUE=DATE:20190803
TRANSP:TRANSPARENT
X-MICROSOFT-CDO-ALLDAYEVENT:TRUE
SUMMARY:2019 Steinbach Chamber of Commerce 51st Annual Pioneer Days Parade
DESCRIPTION:Click Here for the 2019 Pioneer Days Parade Line up.\n\nClick here for 2019 Pioneer Days Parade map.\n\n\n\nThe Steinbach Chamber of Commerce presents the 51st Annual Pioneer Days Parade.\n\n\n\nOur theme this year is Community\, Heritage & the Chamber's 65th Anniversary.  \n\n\nEarly Bird Discount - before July 6th.\n\nSteinbach Chamber Members: Free\n\nNon-Members: $20.00 + GST\n\n\n\nAfter July 6th:\n\nSteinbach Chamber Members: $20 + GST\n\nNon-Members: $50 + GST\n\n\n\nDay-of Entries\n\n$100 registration fee\, cash only\n\n\n\nEntry Deadline: Monday\, July 22\, 2019\n\n\n\nEntries will be judged prior to the parade and winners will be selected in the following categories:\n\n\n\nHistorical - "Show us the history / progression of your organization"\n\nAnimal Entry - "Horses\, dogs or anything in between! Show us your connection to animals!"\n\nMost Creative - "Think outside of the box and get creative!"\n\nJudges Choice -  "Get creative and wow the crowd!"\n\n\n\nSteinbach Chamber of Commerce assigns your position along the parade route.\n\n\n\nParade Safety Rules:\n\n\n	Marshalling information including your parade entry number will be available after July 30th at www.steinbachchamber.com. You may also obtain your entry number from the Parade Marshall on Friday morning upon arrival. Parade starts at 10am sharp! \n	Please refrain from throwing anything from your float or vehicle.  We ask that any items being distributed are thrown by walkers only and thrown over the barricade tape.  The public should remain behind the marked barricade tape at all times.\n	Please use caution while proceeding to your marker. Your extra caution could prevent an accident. \n	Children should be supervised at all times.\n	Once the parade begins moving\, please remain on your float or trailer.  Participants may exit for emergencies or health related issues only.\n	All float leaders or drivers are responsible for anyone riding on their float or trailer and any injuries that may result.\n	Each entry is responsible for ensuring their entry maintains the pace with the rest of the parade.  Large gaps may indicate to the spectators the parade has ended which poses a safety issue.  \n	Stopping along parade route is prohibited. \n	There is a 75 foot maximum length and 10 foot maximum width per registered entrant.\n	If the entry has large equipment with dual or triple wheels or wide tracks\, two spotters must be walking in front of the unit at each corner. Each spotter must wear a reflective vest. \n	Brake stands and revving of engines is prohibited as they pose safety hazards.  \n	Be prepared for all types of weather as the parade goes rain or shine. \n	The ultimate responsibility of safety lies with each individual entry
X-ALT-DESC;FMTTYPE=text/html:<p><span style="box-sizing: content-box\; font-weight: bolder\; bottom: auto\; clear: none\; color: rgb(68\, 68\, 68)\; content: normal\; direction: inherit\; empty-cells: show\; font-variant-numeric: inherit\; font-variant-east-asian: inherit\; font-stretch: inherit\; font-size: 14px\; font-family: Arial\, Helvetica\, sans-serif\; left: auto\; line-height: inherit\; margin: 0px\; max-height: none\; max-width: none\; min-height: initial\; min-width: initial\; opacity: 1\; outline-offset: 0px\; overflow: visible\; padding: 0px\; position: static\; resize: none\; right: auto\; table-layout: auto\; text-overflow: clip\; top: auto\; vertical-align: baseline\; visibility: inherit\; word-break: inherit\; overflow-wrap: inherit\; z-index: auto\; background-image: none\; background-position: initial\; background-size: initial\; background-repeat: initial\; background-attachment: initial\; background-origin: initial\; background-clip: initial\; border: none\; border-collapse: separate\; border-radius: 0px\; height: auto\; width: auto\; box-shadow: none\;"><a href="https://chambermaster.blob.core.windows.net/userfiles/UserFiles/chambers/1995/File/ParadeLineUp-Alphabetical1.pdf"><span style="box-sizing: content-box\; bottom: auto\; clear: none\; color: rgb(0\, 128\, 0)\; content: normal\; direction: inherit\; empty-cells: show\; font: inherit\; left: auto\; letter-spacing: inherit\; margin: 0px\; max-height: none\; max-width: none\; min-height: initial\; min-width: initial\; opacity: 1\; outline-offset: 0px\; overflow: visible\; padding: 0px\; position: static\; resize: none\; right: auto\; table-layout: auto\; text-align: inherit\; text-decoration-line: none\; text-indent: inherit\; text-overflow: clip\; text-transform: inherit\; top: auto\; vertical-align: baseline\; visibility: inherit\; white-space: inherit\; word-break: inherit\; word-spacing: inherit\; overflow-wrap: inherit\; z-index: auto\; background: none\; border: none\; border-collapse: separate\; border-radius: 0px\; height: auto\; width: auto\; box-shadow: none\;">Click Here for the 2019&nbsp\;Pioneer Days Parade Line up</span></a><a href="https://chambermaster.blob.core.windows.net/userfiles/UserFiles/chambers/1995/File/ParadeLineUp-Alphabetical1.pdf"><span style="box-sizing: content-box\; bottom: auto\; clear: none\; color: rgb(0\, 128\, 0)\; content: normal\; direction: inherit\; empty-cells: show\; font: inherit\; left: auto\; letter-spacing: inherit\; margin: 0px\; max-height: none\; max-width: none\; min-height: initial\; min-width: initial\; opacity: 1\; outline-offset: 0px\; overflow: visible\; padding: 0px\; position: static\; resize: none\; right: auto\; table-layout: auto\; text-align: inherit\; text-indent: inherit\; text-overflow: clip\; text-transform: inherit\; top: auto\; vertical-align: baseline\; visibility: inherit\; white-space: inherit\; word-break: inherit\; word-spacing: inherit\; overflow-wrap: inherit\; z-index: auto\; background: none\; border: none\; border-collapse: separate\; border-radius: 0px\; height: auto\; width: auto\; box-shadow: none\;">.</span></a><br style="box-sizing: content-box\; bottom: auto\; clear: none\; color: inherit\; content: normal\; direction: inherit\; display: inline\; empty-cells: show\; float: none\; font: inherit\; left: auto\; letter-spacing: inherit\; margin: 0px\; max-height: none\; max-width: none\; min-height: initial\; min-width: initial\; opacity: 1\; outline-offset: 0px\; overflow: visible\; padding: 0px\; position: static\; resize: none\; right: auto\; table-layout: auto\; text-align: inherit\; text-indent: inherit\; text-overflow: clip\; text-transform: inherit\; top: auto\; vertical-align: baseline\; visibility: inherit\; white-space: inherit\; word-break: inherit\; word-spacing: inherit\; overflow-wrap: inherit\; z-index: auto\; background: none\; border: none\; border-collapse: separate\; border-radius: 0px\; height: auto\; width: auto\;" />\n<a href="https://chambermaster.blob.core.windows.net/userfiles/UserFiles/chambers/1995/File/ParadeMap2019.pdf" style="box-sizing: content-box\; background: none\; color: rgb(34\, 72\, 132)\; text-decoration-line: none\; bottom: auto\; clear: none\; content: normal\; direction: inherit\; display: inline\; empty-cells: show\; float: none\; font: inherit\; left: auto\; letter-spacing: inherit\; margin: 0px\; max-height: none\; max-width: none\; min-height: initial\; min-width: initial\; opacity: 1\; outline-offset: 0px\; overflow: visible\; padding: 0px\; position: static\; resize: none\; right: auto\; table-layout: auto\; text-align: inherit\; text-indent: inherit\; text-overflow: clip\; text-transform: inherit\; top: auto\; vertical-align: baseline\; visibility: inherit\; white-space: inherit\; word-break: inherit\; word-spacing: inherit\; overflow-wrap: break-word\; z-index: auto\; border: none\; border-collapse: separate\; border-radius: 0px\; height: auto\; width: auto\; box-shadow: none\;" target="_blank"><span style="box-sizing: content-box\; bottom: auto\; clear: none\; color: rgb(0\, 128\, 0)\; content: normal\; direction: inherit\; empty-cells: show\; font: inherit\; left: auto\; letter-spacing: inherit\; margin: 0px\; max-height: none\; max-width: none\; min-height: initial\; min-width: initial\; opacity: 1\; outline-offset: 0px\; overflow: visible\; padding: 0px\; position: static\; resize: none\; right: auto\; table-layout: auto\; text-align: inherit\; text-indent: inherit\; text-overflow: clip\; text-transform: inherit\; top: auto\; vertical-align: baseline\; visibility: inherit\; white-space: inherit\; word-break: inherit\; word-spacing: inherit\; overflow-wrap: inherit\; z-index: auto\; background: none\; border: none\; border-collapse: separate\; border-radius: 0px\; height: auto\; width: auto\; box-shadow: none\;">Click here for 2019&nbsp\;Pioneer Days Parade map.</span></a></span><br />\n<br />\nThe Steinbach&nbsp\;Chamber of Commerce&nbsp\;presents the 51st&nbsp\;Annual Pioneer Days Parade.<br />\n<br />\n<strong>Our theme this year is <em>Community\, Heritage &amp\; the Chamber&#39\;s 65th Anniversary.</em>&nbsp\;&nbsp\;</strong></p>\n<br />\n<span style="color:#FF0000\;"><strong>Early Bird Discount</strong>&nbsp\;-&nbsp\;<em>before July 6th.</em><br />\nSteinbach&nbsp\;Chamber Members: Free<br />\nNon-Members: $20.00 + GST<br />\n<br />\n<strong>After July 6th</strong>:<br />\nSteinbach&nbsp\;Chamber Members: $20 + GST<br />\nNon-Members: $50 + GST<br />\n<br />\n<strong>Day-of Entries</strong><br />\n$100 registration fee\, cash only</span><br />\n<br />\n<span style="font-size:14px\;"><strong>Entry Deadline: Monday\, July 22\, 2019</strong></span><br />\n<br />\nEntries will be judged prior to the parade and winners will be selected in the following categories:<br />\n<br />\n<strong>Historical - </strong><span style="font-family:arial\;"><span style="font-size:14px\;">&quot\;<em>Show us the history / progression of your organization&quot\;</em></span></span><br />\n<strong>Animal Entry - </strong><span style="font-size:14px\;"><span style="font-family:arial\;"><em>&quot\;Horses\, dogs or anything in&nbsp\;between! Show us your&nbsp\;connection to animals!&quot\;</em></span></span><br />\n<strong>Most Creative -<em>&nbsp\;&quot\;</em></strong><em>Think outside of the box and get creative!&quot\;</em><br />\n<strong>Judges Choice -&nbsp\; </strong><span style="font-size:14px\;"><span style="font-family:arial\;"><em>&quot\;Get creative and wow the crowd!&quot\;</em></span></span><br />\n<br style="box-sizing: content-box\; bottom: auto\; clear: none\; color: rgb(68\, 68\, 68)\; content: normal\; direction: inherit\; display: inline\; empty-cells: show\; float: none\; font-stretch: inherit\; font-size: 14px\; font-family: arial\; left: auto\; line-height: 18.2px\; margin: 0px\; max-height: none\; max-width: none\; min-height: initial\; min-width: initial\; opacity: 1\; outline: invert none medium\; outline-offset: 0px\; overflow: visible\; padding: 0px\; position: static\; resize: none\; right: auto\; table-layout: auto\; text-overflow: clip\; top: auto\; vertical-align: baseline\; visibility: inherit\; word-break: inherit\; word-wrap: inherit\; z-index: auto\; border: none\; border-collapse: separate\; border-image-source: none\; border-image-slice: 100% 1 0\; border-image-repeat: stretch\; border-radius: 0px\; height: auto\; width: auto\; background-image: none\; background-attachment: initial\; background-size: initial\; background-origin: initial\; background-clip: initial\; background-position: initial\; background-repeat: initial\;" />\n<span style="font-size:14px\;"><span style="font-family:arial\;">Steinbach Chamber of Commerce assigns your position along the parade route.</span></span><br />\n<br />\n<span style="font-family:arial\;"><span style="font-size:20px\;"><strong>Parade Safety Rules:</strong></span></span>\n\n<ol>\n	<li>Marshalling information including your parade entry number will be available after July 30th&nbsp\;at www.steinbachchamber.com. You may also obtain your entry number from the Parade Marshall on Friday morning upon arrival. <strong>Parade starts at 10am&nbsp\;sharp!&nbsp\;</strong></li>\n	<li><span style="font-size:14px\;"><span style="font-family:arial\;">Please refrain from throwing anything from your float or vehicle.&nbsp\; We ask that any items being distributed are thrown by walkers only and thrown over the barricade tape.&nbsp\; The public should remain behind the marked barricade tape at all times.</span></span></li>\n	<li><span style="font-size:14px\;"><span style="font-family:arial\;">Please use caution while proceeding to your marker. Your extra caution could prevent an accident.&nbsp\;</span></span></li>\n	<li><span style="font-size:14px\;"><span style="font-family:arial\;">Children should be supervised at all times.</span></span></li>\n	<li><span style="font-size:14px\;"><span style="font-family:arial\;"><span style="font-size:14px\;"><span style="font-family:arial\;">Once the parade begins moving\, please remain on your float or trailer.&nbsp\; Participants may exit for emergencies or health related issues only.</span></span></span></span></li>\n	<li><span style="font-size:14px\;"><span style="font-family:arial\;"><span style="font-size:14px\;"><span style="font-family:arial\;"><span style="font-size:14px\;"><span style="font-family:arial\;">All float leaders or drivers are responsible for anyone riding on their float or trailer and any injuries that may result.</span></span></span></span></span></span></li>\n	<li><span style="font-size:14px\;"><span style="font-family:arial\;"><span style="font-size:14px\;"><span style="font-family:arial\;"><span style="font-size:14px\;"><span style="font-family:arial\;"><span style="font-size:14px\;"><span style="font-family:arial\;">Each entry is responsible for ensuring their entry maintains the pace with the rest of the parade.&nbsp\; Large gaps may indicate to the spectators the parade has ended which poses a safety issue.&nbsp\; </span></span></span></span></span></span></span></span></li>\n	<li><span style="font-size:14px\;"><span style="font-family:arial\;"><span style="font-size:14px\;"><span style="font-family:arial\;"><span style="font-size:14px\;"><span style="font-family:arial\;"><span style="font-size:14px\;"><span style="font-family:arial\;"><span style="font-size:14px\;"><span style="font-family:arial\;">Stopping along parade route is prohibited. </span></span></span></span></span></span></span></span></span></span></li>\n	<li><span style="font-size:14px\;"><span style="font-family:arial\;"><span style="font-size:14px\;"><span style="font-family:arial\;"><span style="font-size:14px\;"><span style="font-family:arial\;"><span style="font-size:14px\;"><span style="font-family:arial\;"><span style="font-size:14px\;"><span style="font-family:arial\;"><span style="font-size:14px\;"><span style="font-family:arial\;">There is a 75&nbsp\;foot maximum length and 10 foot maximum width per registered entrant.</span></span></span></span></span></span></span></span></span></span></span></span></li>\n	<li><span style="font-size:14px\;"><span style="font-family:arial\;"><span style="font-size:14px\;"><span style="font-family:arial\;"><span style="font-size:14px\;"><span style="font-family:arial\;"><span style="font-size:14px\;"><span style="font-family:arial\;"><span style="font-size:14px\;"><span style="font-family:arial\;"><span style="font-size:14px\;"><span style="font-family:arial\;"><span style="font-size:14px\;"><span style="font-family:arial\;">If the entry has large equipment with dual or triple wheels or wide tracks\, two spotters must be walking in front of the unit at each corner. Each spotter must wear a reflective vest. </span></span></span></span></span></span></span></span></span></span></span></span></span></span></li>\n	<li><span style="font-size:14px\;"><span style="font-family:arial\;"><span style="font-size:14px\;"><span style="font-family:arial\;"><span style="font-size:14px\;"><span style="font-family:arial\;"><span style="font-size:14px\;"><span style="font-family:arial\;"><span style="font-size:14px\;"><span style="font-family:arial\;"><span style="font-size:14px\;"><span style="font-family:arial\;"><span style="font-size:14px\;"><span style="font-family:arial\;"><span style="font-size:14px\;"><span style="font-family:arial\;">Brake stands and revving of engines is prohibited&nbsp\;as they pose safety hazards. &nbsp\;</span></span></span></span></span></span></span></span></span></span></span></span></span></span></span></span></li>\n	<li><span style="font-size:14px\;"><span style="font-family:arial\;"><span style="font-size:14px\;"><span style="font-family:arial\;"><span style="font-size:14px\;"><span style="font-family:arial\;"><span style="font-size:14px\;"><span style="font-family:arial\;"><span style="font-size:14px\;"><span style="font-family:arial\;"><span style="font-size:14px\;"><span style="font-family:arial\;"><span style="font-size:14px\;"><span style="font-family:arial\;"><span style="font-size:14px\;"><span style="font-family:arial\;"><span style="font-size:14px\;"><span style="font-family:arial\;">Be prepared for all types of weather as the parade goes rain or shine.&nbsp\;</span></span></span></span></span></span></span></span></span></span></span></span></span></span></span></span></span></span></li>\n	<li><span style="font-size:14px\;"><span style="font-family:arial\;"><span style="font-size:14px\;"><span style="font-family:arial\;"><span style="font-size:14px\;"><span style="font-family:arial\;"><span style="font-size:14px\;"><span style="font-family:arial\;"><span style="font-size:14px\;"><span style="font-family:arial\;"><span style="font-size:14px\;"><span style="font-family:arial\;"><span style="font-size:14px\;"><span style="font-family:arial\;"><span style="font-size:14px\;"><span style="font-family:arial\;"><span style="font-size:14px\;"><span style="font-family:arial\;"><span style="font-size:14px\;"><span style="font-family:arial\;">The ultimate responsibility of safety lies with each individual entry&nbsp\; </span></span></span></span></span></span></span></span></span></span></span></span></span></span></span></span></span></span></span></span></li>\n</ol>\n
LOCATION:Marshalling begins at Lyndhurst and Hespeler. The parade will lead off at the Steinbach Fire Hall at the East end of Main Street\, the Parade will proceed West down Main Street\, and North down Brandt Street (Hwy 12N)\, ending at Stone Bridge Crossing.
UID:e.1995.1457
SEQUENCE:3
DTSTAMP:20260424T020731Z
URL:https://chamber.steinbachchamber.com/events/details/2019-steinbach-chamber-of-commerce-51st-annual-pioneer-days-parade-1457
END:VEVENT

END:VCALENDAR
