BEGIN:VCALENDAR
VERSION:2.0
PRODID:-//ChamberMaster//Event Calendar 2.0//EN
METHOD:PUBLISH
X-PUBLISHED-TTL:P3D
REFRESH-INTERVAL:P3D
CALSCALE:GREGORIAN
BEGIN:VEVENT
DTSTART:20200924T140000Z
DTEND:20200924T143000Z
X-MICROSOFT-CDO-ALLDAYEVENT:FALSE
SUMMARY:2020 Steinbach Chamber of Commerce Annual General Meeting ONLINE
DESCRIPTION:Steinbach Chamber of Commerce Annual General Meeting ONLINE\n\nPlease join us for the Steinbach Chamber of Commerce's Annual General Meeting on September . Due to the current environment\, we will host an AGM live online from 9 to 9:30 AM on Thursday\, September 24\, 2020.\n\n \n\nDuring this brief meeting\, we will:\n\n\n	Present the Steinbach Chamber's 2019 audited financials and year-to-date 2020 financials\n	Hear from our Chamber of Commerce President\, Wayne Patram regarding Chamber activities and initiatives\n	Introduce our 2020/2021 Board of Directors\n\n\n Join us for this brief\, but important\, AGM event as we move forward together as a business community.\n\n \n\n\n\n**Meeting instructions will be sent out to registrants shortly before the event date.
X-ALT-DESC;FMTTYPE=text/html:<h2>Steinbach Chamber of Commerce Annual General Meeting ONLINE</h2>\n\n<p>Please join us for&nbsp\;the Steinbach Chamber&nbsp\;of Commerce&#39\;s Annual General Meeting on September . Due to the current environment\,&nbsp\;we will host an AGM live online from 9&nbsp\;to 9:30&nbsp\;AM on Thursday\, September 24\, 2020.<br />\n&nbsp\;<br />\nDuring this brief&nbsp\;meeting\, we will:</p>\n\n<ul style="margin-left: 40px\;">\n	<li>Present the Steinbach Chamber&#39\;s 2019 audited financials&nbsp\;and year-to-date 2020 financials</li>\n	<li>Hear from our Chamber of Commerce President\, Wayne Patram regarding Chamber activities and initiatives</li>\n	<li>Introduce our 2020/2021 Board of Directors</li>\n</ul>\n\n<p>&nbsp\;Join us for this brief\, but important\, AGM event as we move forward together as a business community.<br />\n&nbsp\;<br />\n<br />\n<strong>**Meeting instructions will be sent out to registrants shortly before the event date.</strong></p>\n
LOCATION:ONLINE Registrants will be emailed the meeting link.
UID:e.1995.1563
SEQUENCE:3
DTSTAMP:20260423T073221Z
URL:https://chamber.steinbachchamber.com/events/details/2020-steinbach-chamber-of-commerce-annual-general-meeting-online-1563
END:VEVENT

END:VCALENDAR
