BEGIN:VCALENDAR
VERSION:2.0
PRODID:-//ChamberMaster//Event Calendar 2.0//EN
METHOD:PUBLISH
X-PUBLISHED-TTL:P3D
REFRESH-INTERVAL:P3D
CALSCALE:GREGORIAN
BEGIN:VEVENT
DTSTART:20201006T123000Z
DTEND:20201006T140000Z
X-MICROSOFT-CDO-ALLDAYEVENT:FALSE
SUMMARY:2020 Young Leaders Breakfast Series
DESCRIPTION:Join our 4-part series designed to connect\, educate\, and develop young professionals. Through intentional and directed mentorship\, community involvement\, leadership development\, business training\, and team networking\, young leaders will become more effective influencers in their circles.\n\n\n\nProposed Outcomes:\n\n\n\nBy participating in this program\, leaders will develop:\n\n\n	A professional network to lean on and grow with in their development.\n	Enhanced leadership skills and abilities through personal and interpersonal awareness.\n	Increased confidence to operate within a business environment.\n	A deeper appreciation for the value of the Steinbach and Southeast Manitoba community.\n\n\nTarget Audience: Under 40\, with some leadership ability already recognized through work and peers. \n\n \n\nIncluded in this is a personality assessment to help you better understand yourself and to learn how to deal with other personalities\, and breakfast.\n\n\n\nTopics Outline\n\nMarch 3 - Introduction to Leadership and Personal Leadership Style \n\n               Facilitator: Jody Milburn\, Summit Organizational Development\n\nApril 7 - Productive Conflict\n\n               Facilitator: Jody Milburn\, Summit Organizational Development\n\nSeptember 1 - Business Fundamentals\n\n                     Facilitator: Wayne Patram\, Barkman\n\nOctober 6 - Sustainability in Leadership\n\n                     Facilitator:  Emma Lafreniere\, Coldwell Banker Preferred Real Estate\n\n\n\n**Please contact Dolly at dollyd@steinbachchamber.com if you have dietary needs.
X-ALT-DESC;FMTTYPE=text/html:<p style="text-align: justify\;">Join our 4-part series designed to connect\, educate\, and develop young professionals. Through&nbsp\;intentional and directed mentorship\, community involvement\, leadership development\, business training\, and team networking\, young leaders will become more effective influencers in their circles.<br />\n<br />\n<strong><em>Proposed Outcomes:</em></strong><br />\n<br />\nBy participating in this program\, leaders will develop:</p>\n\n<ol>\n	<li style="text-align: justify\;">A professional network to lean on and grow with in their development.</li>\n	<li style="text-align: justify\;">Enhanced leadership skills and abilities through personal and interpersonal awareness.</li>\n	<li style="text-align: justify\;">Increased confidence to operate within a business environment.</li>\n	<li style="text-align: justify\;">A deeper appreciation for the value of the Steinbach and Southeast Manitoba community.</li>\n</ol>\n\n<div style="text-align: justify\;"><em>Target Audience:&nbsp\;</em>Under 40\, with some leadership ability already recognized through work and peers.&nbsp\;<br />\n&nbsp\;</div>\n\n<div>Included in this is a personality assessment to help you better understand yourself and to learn&nbsp\;how to deal with other personalities\, and breakfast.<br />\n<br />\n<strong>Topics Outline</strong><br />\nMarch 3 -&nbsp\;Introduction to Leadership and Personal Leadership Style&nbsp\;<br />\n&nbsp\; &nbsp\; &nbsp\; &nbsp\; &nbsp\; &nbsp\; &nbsp\; &nbsp\;Facilitator: Jody&nbsp\;Milburn\,&nbsp\;<a href="https://summitorgdev.com/" target="_blank">Summit Organizational Development</a></div>\n\n<div>April 7 - Productive Conflict</div>\n\n<div>&nbsp\; &nbsp\; &nbsp\; &nbsp\; &nbsp\; &nbsp\; &nbsp\; &nbsp\;Facilitator: Jody Milburn\,&nbsp\;<a href="https://summitorgdev.com/" target="_blank">Summit Organizational Development</a><br />\nSeptember 1 -&nbsp\;Business Fundamentals<br />\n&nbsp\; &nbsp\; &nbsp\; &nbsp\; &nbsp\; &nbsp\; &nbsp\; &nbsp\; &nbsp\; &nbsp\; &nbsp\;<span style="text-align: justify\;">Facilitator:&nbsp\;Wayne Patram\, <a href="https://www.barkmanconcrete.com/" target="_blank">Barkman</a></span><br />\nOctober 6 -&nbsp\;Sustainability in Leadership<br />\n<span style="text-align: justify\;">&nbsp\; &nbsp\; &nbsp\; &nbsp\; &nbsp\; &nbsp\; &nbsp\; &nbsp\; &nbsp\; &nbsp\; &nbsp\;</span><span style="text-align: justify\;">Facilitator:&nbsp\; Emma Lafreniere\, <a href="https://coldwellbankersteinbach.ca/">Coldwell Banker&nbsp\;Preferred Real Estate</a></span></div>\n\n<div style="text-align: justify\;"><br />\n<span style="text-align: justify\;"><span style="font-size:12px\;">**Please contact Dolly at <a href="mailto:dollyd@steinbachchamber.com?subject=Young%20Leaders%20Breakfast%20Series%20-%20Dietary%20Needs">dollyd@steinbachchamber.com</a> if you have dietary needs.&nbsp\;</span></span></div>\n
LOCATION:Smitty's Family Restaurant\, Banquet Room 145 Park Rd W\, Steinbach
UID:e.1995.1545
SEQUENCE:3
DTSTAMP:20260423T052917Z
URL:https://chamber.steinbachchamber.com/events/details/2020-young-leaders-breakfast-series-05-05-2020-1545
END:VEVENT

END:VCALENDAR
