BEGIN:VCALENDAR
VERSION:2.0
PRODID:-//ChamberMaster//Event Calendar 2.0//EN
METHOD:PUBLISH
X-PUBLISHED-TTL:P3D
REFRESH-INTERVAL:P3D
CALSCALE:GREGORIAN
BEGIN:VEVENT
DTSTART:20260324T160000Z
DTEND:20260324T193000Z
X-MICROSOFT-CDO-ALLDAYEVENT:FALSE
SUMMARY:2026 Half-Day AI Foundations Session
DESCRIPTION:Date: Tuesday\, March 24\n\nTime: 11:00 AM   2:30 PM\n\nLocation: Smitty's\n\nCost: $45 per person (includes lunch)\n\n\n\nEvent Overview \n\nWith a focus on personal productivity in everyday work\, we will explore how AI can be used immediately and practically to support individual tasks without adding unnecessary complexity. Emphasis is placed on clarity\, efficiency\, and the production of usable outputs that reduce repetitive effort\, support organization\, and save time. We will present AI as a tool that can assist with activities such as drafting\, summarizing\, organizing information\, and streamlining routine work. \n\n \n\nYou can expect to build a solid foundation through this training program and prepare to engage meaningfully in other sessions that shift the focus from individual productivity to broader\, role-specific organizational considerations. \n\n \n\nWhat you can expect to learn at the AI Foundation Session:\n\n\n	Prompting Fundamentals \n	System Prompts & Personas \n	Personal Productivity Patterns\n	Change Management   Introduction\n\n\n \n\nWho Should Attend this session: \n\nFront-line staff\, individual contributors\, and small business owners\, regardless of role or seniority. It is designed for individuals balancing multiple responsibilities alongside their everyday work tasks.\n\n\n\nFacilitator: \n\nThis session is delivered by Online Business System (OBS) out of Winnipeg. OBS helps organizations make sense of AI and apply it in practical\, responsible ways. A valued partner in Manitoba's AI landscape\, OBS focuses on building confidence\, clarity\, and productivity for leaders and teams. Turning emerging technology into usable\, real-world value. \n\n \n\n\n\nThis event is part of Manitoba AI Pathways (MAP) a provincial initiative that equips chambers and SMEs with practical training\, tools\, and supports to accelerate AI readiness and competitiveness. MAP is delivered by the Manitoba Chambers of Commerce\, in partnership with The Winnipeg Chamber of Commerce\, and supported by the Province of Manitoba.
X-ALT-DESC;FMTTYPE=text/html:<p data-end="983" data-start="960"><big><span style="font-family:arial\;"><small><strong>Date:</strong>&nbsp\;Tuesday\, March 24<br />\n<strong>Time:</strong>&nbsp\;11:00 AM &ndash\; 2:30 PM<br />\n<strong>Location:</strong>&nbsp\;Smitty&rsquo\;s<br />\n<strong>Cost:</strong>&nbsp\;$45 per person (includes lunch)<br />\n<br />\n<strong>Event Overview&nbsp\;</strong><br />\nWith a focus on&nbsp\;<strong>personal productivity in everyday work</strong>\, we will explore how AI can be used&nbsp\;immediately&nbsp\;and practically to support individual tasks without adding unnecessary complexity. Emphasis is placed on clarity\, efficiency\, and the production of usable outputs that reduce repetitive effort\, support organization\, and save time. We will present AI as a tool that can&nbsp\;assist&nbsp\;with activities such as drafting\, summarizing\, organizing information\, and streamlining routine work.&nbsp\;<br />\n&nbsp\;<br />\nYou can expect to build a solid foundation through this training program and prepare to engage meaningfully in&nbsp\;other sessions that shift the focus from individual productivity to broader\, role-specific organizational considerations.&nbsp\;<br />\n&nbsp\;<br />\n<strong>What you can expect to learn at the AI Foundation Session:</strong></small></span></big></p>\n\n<ul>\n	<li style="margin-bottom: 0cm\;"><big><span style="font-family:arial\;"><small>Prompting Fundamentals&nbsp\;</small></span></big></li>\n	<li style="margin-bottom: 0cm\;"><big><span style="font-family:arial\;"><small>System Prompts &amp\; Personas&nbsp\;</small></span></big></li>\n	<li style="margin-bottom: 0cm\;"><big><span style="font-family:arial\;"><small>Personal Productivity Patterns</small></span></big></li>\n	<li style="margin-bottom: 0cm\;"><big><span style="font-family:arial\;"><small>Change Management &ndash\; Introduction</small></span></big></li>\n</ul>\n\n<p data-end="983" data-start="960"><big><span style="font-family:arial\;"><small>&nbsp\;<br />\n<strong>Who Should Attend this session:&nbsp\;</strong><br />\nFront-line staff\, individual contributors\, and small business owners\, regardless of role or seniority. It is designed for individuals balancing multiple responsibilities alongside their everyday work tasks.<br />\n<br />\n<strong>Facilitator:&nbsp\;</strong><br />\nThis session is delivered by&nbsp\;Online Business System (OBS) out of Winnipeg. OBS helps organizations make sense of AI and apply it in practical\, responsible ways. A valued partner in Manitoba&#39\;s AI landscape\, OBS focuses on building confidence\, clarity\, and productivity for leaders and teams. Turning emerging technology into usable\, real-world value.&nbsp\;<br />\n&nbsp\;<br />\n<br />\nThis event is part of Manitoba AI Pathways (MAP)&mdash\;a provincial initiative that equips chambers and SMEs with practical training\, tools\, and supports to accelerate AI readiness and competitiveness. MAP is delivered by the Manitoba Chambers of Commerce\, in partnership with The Winnipeg Chamber of Commerce\, and supported by the Province of Manitoba.</small></span></big></p>\n
LOCATION:Smitty's Family Restaurant - Banquet Room
UID:e.1995.1930
SEQUENCE:3
DTSTAMP:20260421T083542Z
URL:https://chamber.steinbachchamber.com/events/details/2026-half-day-ai-foundations-session-1930
END:VEVENT

END:VCALENDAR
