BEGIN:VCALENDAR
VERSION:2.0
PRODID:-//ChamberMaster//Event Calendar 2.0//EN
METHOD:PUBLISH
X-PUBLISHED-TTL:P3D
REFRESH-INTERVAL:P3D
CALSCALE:GREGORIAN
BEGIN:VEVENT
DTSTART:20191010T170000Z
DTEND:20191010T180000Z
X-MICROSOFT-CDO-ALLDAYEVENT:FALSE
SUMMARY:Chamber Lunch & Learn - The Benefits of an Inclusive Workplace
DESCRIPTION:What does it mean to have an inclusive workplace?\n\n\n\nWith a special focus on intellectual disabilities\, join us at this informative and inspiring Lunch & Learn as we hear from several local business owners who will share their stories of how inclusivity has contributed to the overall health and culture of their organization.\n\n \n\n\nOur Panel will consist of:\n\n\n	Earl Funk (Earl's Meat Market)\n	Lee Kotowicz (Sobey's)\n	Brian Bartel (MJ's Kafe)\n	Diane Loewen (Steinbach Credit Union)\n\n\nModerating the event is Oly Backstrom\, President and CEO of SCE Lifeworks in Winnipeg.\n\n\n\n\nThis Lunch & Learn session will be presented by Eastman Employment Services with a special guest from SCE Lifeworks.  \n\n\n\n\n\n*If you have dietary needs or allergies\, please e-mail info@steinbachchamber.com with that information.
X-ALT-DESC;FMTTYPE=text/html:<p>&nbsp\;</p>\n\n<div><span _mce_style="font-size: 11pt\;"><span style="font-size:11pt\;">What does it mean to have an inclusive workplace?<br />\n<br />\nWith a special focus on intellectual disabilities\, join us at this informative and inspiring Lunch &amp\; Learn as we hear from several&nbsp\;</span></span><span _mce_style="font-size: 11pt\;"><span style="font-size:11pt\;">local business owners who will share their stories of how inclusivity has contributed to the overall health and culture of their organization.</span></span></div>\n\n<div style="color:rgb(69\, 69\, 69)\;font-family:Arial\, Helvetica\, sans-serif\;font-size:14.6667px\;">&nbsp\;</div>\n\n<div style="color:rgb(69\, 69\, 69)\;font-family:Arial\, Helvetica\, sans-serif\;font-size:14.6667px\;">\n<div><span _mce_style="font-size: 11pt\;"><span style="font-size:11pt\;">Our Panel will consist of:</span></span></div>\n\n<ul>\n	<li><span _mce_style="font-size: 11pt\;"><span style="font-size:11pt\;">Earl Funk (Earl&rsquo\;s Meat Market)</span></span></li>\n	<li><span _mce_style="font-size: 11pt\;"><span style="font-size:11pt\;">Lee Kotowicz (Sobey&rsquo\;s)</span></span></li>\n	<li><span _mce_style="font-size: 11pt\;"><span style="font-size:11pt\;">Brian Bartel (MJ&rsquo\;s Kafe)</span></span></li>\n	<li><span _mce_style="font-size: 11pt\;"><span style="font-size:11pt\;">Diane Loewen (Steinbach Credit Union)</span></span></li>\n</ul>\n\n<div><span _mce_style="font-size: 11pt\;">M<span style="font-size:11pt\;">oderating the event is Oly Backstrom\, President and CEO of SCE Lifeworks in Winnipeg.</span></span></div>\n</div>\n\n<div style="color: rgb(69\, 69\, 69)\; font-family: Arial\, Helvetica\, sans-serif\; font-size: 14.6667px\;"><br />\nThis Lunch &amp\; Learn session will be presented by Eastman Employment Services with a special guest from SCE Lifeworks.&nbsp\;&nbsp\;<br />\n<br />\n<br />\n<span style="text-align: justify\; font-family: arial\;"><span style="font-size: 14px\;"><span style="line-height: normal\;">*If you have dietary needs or allergies\, please e-mail <a href="mailto:info@steinbachchamber.com?subject=Lunch%20%26%20Learn%20Dietary%20Needs">info@steinbachchamber.com</a> with that information.</span></span></span></div>\n
LOCATION:Eastman Education Centre - Atrium 385 Loewen Boulevard Steinbach\, MB R5G 0B3
UID:e.1995.1459
SEQUENCE:3
DTSTAMP:20260423T232631Z
URL:https://chamber.steinbachchamber.com/events/details/chamber-lunch-learn-the-benefits-of-an-inclusive-workplace-1459
END:VEVENT

END:VCALENDAR
